BEGIN:VCALENDAR
VERSION:2.0
PRODID:-//Huis voor Beweging - ECPv6.15.19//NONSGML v1.0//EN
CALSCALE:GREGORIAN
METHOD:PUBLISH
X-ORIGINAL-URL:https://huisvoorbeweging.nl
X-WR-CALDESC:Evenementen voor Huis voor Beweging
REFRESH-INTERVAL;VALUE=DURATION:PT1H
X-Robots-Tag:noindex
X-PUBLISHED-TTL:PT1H
BEGIN:VTIMEZONE
TZID:Europe/Amsterdam
BEGIN:DAYLIGHT
TZOFFSETFROM:+0100
TZOFFSETTO:+0200
TZNAME:CEST
DTSTART:20230326T010000
END:DAYLIGHT
BEGIN:STANDARD
TZOFFSETFROM:+0200
TZOFFSETTO:+0100
TZNAME:CET
DTSTART:20231029T010000
END:STANDARD
BEGIN:DAYLIGHT
TZOFFSETFROM:+0100
TZOFFSETTO:+0200
TZNAME:CEST
DTSTART:20240331T010000
END:DAYLIGHT
BEGIN:STANDARD
TZOFFSETFROM:+0200
TZOFFSETTO:+0100
TZNAME:CET
DTSTART:20241027T010000
END:STANDARD
BEGIN:DAYLIGHT
TZOFFSETFROM:+0100
TZOFFSETTO:+0200
TZNAME:CEST
DTSTART:20250330T010000
END:DAYLIGHT
BEGIN:STANDARD
TZOFFSETFROM:+0200
TZOFFSETTO:+0100
TZNAME:CET
DTSTART:20251026T010000
END:STANDARD
BEGIN:DAYLIGHT
TZOFFSETFROM:+0100
TZOFFSETTO:+0200
TZNAME:CEST
DTSTART:20260329T010000
END:DAYLIGHT
BEGIN:STANDARD
TZOFFSETFROM:+0200
TZOFFSETTO:+0100
TZNAME:CET
DTSTART:20261025T010000
END:STANDARD
END:VTIMEZONE
BEGIN:VEVENT
DTSTART;TZID=Europe/Amsterdam:20250501T160000
DTEND;TZID=Europe/Amsterdam:20250501T170000
DTSTAMP:20260423T135145
CREATED:20241212T142444Z
LAST-MODIFIED:20241217T104409Z
UID:46066-1746115200-1746118800@huisvoorbeweging.nl
SUMMARY:Intervisie/vragenuurtje voor professionals BeweegKuurGLI (online)
DESCRIPTION:Heb je vragen over de uitvoer van de BeweegKuur GLI\, wil je meer weten over hoe anderen de BeweegKuur GLI uitvoeren\, ervaringen delen en in contact komen met andere uitvoerende professionals? Dan is dit je kans! We organiseren vier intervisie-uurtjes\, waarin kennis delen centraal staat en waarin je ook ons als interventie-eigenaar vragen kunt stellen. \n\n\nAlleen voor reeds opgeleide BeweegKuur GLI professionals\nDeelname is gratis. Graag hier vooraf aanmelden.
URL:https://huisvoorbeweging.nl/event/intervisie-vragenuurtje-voor-professionals-beweegkuurgli-online-2/
ATTACH;FMTTYPE=image/jpeg:/wp-content/uploads/2024/11/logo-kalender-beweegkuur-v2.jpg
END:VEVENT
BEGIN:VEVENT
DTSTART;TZID=Europe/Amsterdam:20250327T190000
DTEND;TZID=Europe/Amsterdam:20250327T200000
DTSTAMP:20260423T135145
CREATED:20241212T142222Z
LAST-MODIFIED:20241217T104321Z
UID:46065-1743102000-1743105600@huisvoorbeweging.nl
SUMMARY:Intervisie/vragenuurtje voor professionals BeweegKuurGLI (online)
DESCRIPTION:Heb je vragen over de uitvoer van de BeweegKuur GLI\, wil je meer weten over hoe anderen de BeweegKuur GLI uitvoeren\, ervaringen delen en in contact komen met andere uitvoerende professionals? Dan is dit je kans! We organiseren vier intervisie-uurtjes\, waarin kennis delen centraal staat en waarin je ook ons als interventie-eigenaar vragen kunt stellen. \n\n\nAlleen voor reeds opgeleide BeweegKuur GLI professionals\nDeelname is gratis. Graag hier vooraf aanmelden.
URL:https://huisvoorbeweging.nl/event/intervisie-vragenuurtje-voor-professionals-beweegkuurgli-online/
ATTACH;FMTTYPE=image/jpeg:/wp-content/uploads/2024/11/logo-kalender-beweegkuur-v2.jpg
END:VEVENT
BEGIN:VEVENT
DTSTART;TZID=Europe/Amsterdam:20250318T100000
DTEND;TZID=Europe/Amsterdam:20250319T160000
DTSTAMP:20260423T135145
CREATED:20241126T212509Z
LAST-MODIFIED:20241217T102129Z
UID:45912-1742292000-1742400000@huisvoorbeweging.nl
SUMMARY:Train-de-Trainer Beweegkriebels (open inschrijving)
DESCRIPTION:Beweegkriebels gaat over bewegen met jonge kinderen\, over een actieve leefstijl en over het aanbieden van beweegmogelijkheden aan jonge kinderen. Beweegkriebels inspireert\, enthousiasmeert en informeert. \nIn de tweedaagse train-de-trainer Beweegkriebels worden professionals door Huis voor Beweging opgeleid tot gecertificeerd trainer Beweegkriebels. Gecertificeerde trainers kunnen de training Beweegkriebels zelfstandig uitzetten binnen hun eigen organisatie of daarbuiten. In de training wordt aandacht besteed aan overdracht van kennis\, de beweegactiviteiten\, trainersvaardigheden en coaching met betrekking tot Beweegkriebels. \nOp 17-18 februari 2025 vindt de fysieke tweedaagse train de trainer Beweegkriebels plaats in Groesbeek. Meld je hier aan voor deze train de trainer en ontvang meer informatie. \n\n18 maart 10.00 uur – 21.00 uur\n19 maart 09.00 uur – 16.00 uur\n\nVoor meer informatie: \nKosten TDT Beweegkriebels:\n€ 1095\,- tweedaagse training\, inclusief overnachting\, catering\, handreiking en BRES spelenboek.\nOf: inclusief alle materialen voor trainers: €1225\,- tweedaagse training\, inclusief overnachting\, catering\, handreiking\, BRES boek\, speelkaartendoosje Beweegkriebels\, beweegplaten kinderen\, BeweegCD\, spelenderwijs filmpjes\, Vileine vragen 0-4 jaar \nKosten na de train de trainer bij het uitzetten van de training Beweegkriebels: \n\nCertificaten voor je deelnemers: per groep van 12 deelnemers; €75\,- excl. btw en verzendkosten.\nOptioneel: Aanschaf van het BRES spelenboek voor de deelnemers waarin Beweegkriebels staat beschreven; €39\,99\,- incl. btw en excl. verzendkosten.\n\nKlik hier voor meer informatie over Beweegkriebels en het trainingsaanbod.
URL:https://huisvoorbeweging.nl/event/train-de-trainer-beweegkriebels-open-inschrijving/
LOCATION:Groesbeek\, de Poort conferentiecentrum\, Groesbeek
ATTACH;FMTTYPE=image/jpeg:/wp-content/uploads/2024/11/logo-beweegkriebels.jpg
END:VEVENT
BEGIN:VEVENT
DTSTART;TZID=Europe/Amsterdam:20250312T130000
DTEND;TZID=Europe/Amsterdam:20250312T160000
DTSTAMP:20260423T135145
CREATED:20241213T092842Z
LAST-MODIFIED:20250121T124345Z
UID:46072-1741784400-1741795200@huisvoorbeweging.nl
SUMMARY:Online Startbijeenkomst BeweegKuur GLI
DESCRIPTION:Huis voor Beweging verzorgt de startbijeenkomst BeweegKuurGLI online. Zonder aan de kwaliteit in te boeten is de training omgezet naar een interactieve startbijeenkomst\, die iedereen thuis achter de computer kan volgen. Naar grote tevredenheid van de deelnemende teams. Zij kunnen\, zodra de situatie dat toelaat\, starten met de BeweegKuurGLI in hun werkgebied. Dus wil je de BeweegKuurGLI straks ook aanbieden\, dan is het handig om in deze periode het team te scholen. Dan ben je er straks klaar voor om mensen te coachen en begeleiden in hun strijd tegen overgewicht \n\n\nVanaf januari 2019 is de BeweegKuurGLI (Gecombineerde Leefstijl Interventie) opgenomen in het basispakket van alle Nederlanders. Om de kwaliteit van de BeweegKuurGLI te waarborgen worden de uitvoerende professionals (leefstijlcoach\, fysiotherapeut en diëtist/oefentherapeut) geschoold. Deze startbijeenkomst is verplicht voor het implementeren van de BeweegKuurGLI. \n\n\nVoor aanmelden: meld je voor 1 persoon aan\, na aanmelding ontvang je alle documenten relevant voor de aanmelding van je team (open inschrijving\, maximaal 4 BeweegKuur teams). \n\nKlik hier voor meer informatie over de scholing.
URL:https://huisvoorbeweging.nl/event/online-startbijeenkomst-beweegkuur-gli-2/
ATTACH;FMTTYPE=image/jpeg:/wp-content/uploads/2024/11/logo-kalender-beweegkuur-v2.jpg
END:VEVENT
BEGIN:VEVENT
DTSTART;TZID=Europe/Amsterdam:20250204T100000
DTEND;TZID=Europe/Amsterdam:20250204T130000
DTSTAMP:20260423T135145
CREATED:20241213T092710Z
LAST-MODIFIED:20241217T102655Z
UID:46071-1738663200-1738674000@huisvoorbeweging.nl
SUMMARY:Online Startbijeenkomst BeweegKuur GLI
DESCRIPTION:Huis voor Beweging verzorgt de startbijeenkomst BeweegKuurGLI online. Zonder aan de kwaliteit in te boeten is de training omgezet naar een interactieve startbijeenkomst\, die iedereen thuis achter de computer kan volgen. Naar grote tevredenheid van de deelnemende teams. Zij kunnen\, zodra de situatie dat toelaat\, starten met de BeweegKuurGLI in hun werkgebied. Dus wil je de BeweegKuurGLI straks ook aanbieden\, dan is het handig om in deze periode het team te scholen. Dan ben je er straks klaar voor om mensen te coachen en begeleiden in hun strijd tegen overgewicht \nVanaf januari 2019 is de BeweegKuurGLI (Gecombineerde Leefstijl Interventie) opgenomen in het basispakket van alle Nederlanders. Om de kwaliteit van de BeweegKuurGLI te waarborgen worden de uitvoerende professionals (leefstijlcoach\, fysiotherapeut en diëtist/oefentherapeut) geschoold. Deze startbijeenkomst is verplicht voor het implementeren van de BeweegKuurGLI. \nVoor aanmelden: meld je voor 1 persoon aan\, na aanmelding ontvang je alle documenten relevant voor de aanmelding van je team (open inschrijving\, maximaal 4 BeweegKuur teams). \nKlik hier voor meer informatie over de scholing.
URL:https://huisvoorbeweging.nl/event/online-startbijeenkomst-beweegkuur-gli/
ATTACH;FMTTYPE=image/jpeg:/wp-content/uploads/2024/11/logo-kalender-beweegkuur-v2.jpg
END:VEVENT
BEGIN:VEVENT
DTSTART;TZID=Europe/Amsterdam:20250130T100000
DTEND;TZID=Europe/Amsterdam:20250130T130000
DTSTAMP:20260423T135145
CREATED:20241126T212055Z
LAST-MODIFIED:20250121T125459Z
UID:45887-1738231200-1738242000@huisvoorbeweging.nl
SUMMARY:Workshop Activerende werkvormen
DESCRIPTION:Meer beweging en interactie in je bijeenkomst\nTijdens trainingen\, workshops en werkconferenties is zitten vaak de norm en heeft eenrichtingsverkeer in de overdracht nog steeds de overhand. We zitten vaak lang te luisteren. Dit is saai en bevordert niet de interactie.\nHet kan veel leuker en krachtiger! Bewegen met actieve werkvormen kan het leren bevorderen\, geeft een enorme stimulans aan het opnemen en verwerken van nieuwe materie en genereert automatisch veel energie bij de deelnemers. In de workshop. Activerende werkvormen ervaar je hoe dit werkt en leer je hoe je het zelf kunt toepassen. \nVoor wie?\nProfessionals (buurtsportcoaches\, fysiotherapeuten\, diëtisten en leefstijlcoaches) die activerende werkvormen willen toepassen in hun eigen werk. \nWanneer?\nDonderdag 30 januari 2025 van 10.00 – 13.00 uur met aansluitend lunch \nWaar?\nNationaal Congrescentrum Papendal in Arnhem \nPrijs: €295\,- pp
URL:https://huisvoorbeweging.nl/event/workshop-activerende-werkvormen/
LOCATION:Papendal\, Papendallaan 3
END:VEVENT
BEGIN:VEVENT
DTSTART;TZID=Europe/Amsterdam:20250116T090000
DTEND;TZID=Europe/Amsterdam:20250116T100000
DTSTAMP:20260423T135145
CREATED:20241212T141742Z
LAST-MODIFIED:20250106T101300Z
UID:46064-1737018000-1737021600@huisvoorbeweging.nl
SUMMARY:Intervisie/vragenuurtje voor professionals BeweegKuurGLI (online)
DESCRIPTION:Heb je vragen over de uitvoer van de BeweegKuur GLI\, wil je meer weten over hoe anderen de BeweegKuur GLI uitvoeren\, ervaringen delen en in contact komen met andere uitvoerende professionals? Dan is dit je kans! We organiseren vier intervisie-uurtjes\, waarin kennis delen centraal staat en waarin je ook ons als interventie-eigenaar vragen kunt stellen. \nAlleen voor reeds opgeleide BeweegKuur GLI professionals\nDeelname is gratis. Graag hier vooraf aanmelden.
URL:https://huisvoorbeweging.nl/event/online-intervisie-vragenuurtje-voor-professionals-beweegkuurgli/
ATTACH;FMTTYPE=image/jpeg:/wp-content/uploads/2024/11/logo-kalender-beweegkuur-v2.jpg
END:VEVENT
BEGIN:VEVENT
DTSTART;TZID=Europe/Amsterdam:20241212T190000
DTEND;TZID=Europe/Amsterdam:20241212T200000
DTSTAMP:20260423T135145
CREATED:20241126T181954Z
LAST-MODIFIED:20241210T144835Z
UID:45737-1734030000-1734033600@huisvoorbeweging.nl
SUMMARY:Intervisie/vragenuurtje voor professionals BeweegKuur (online)
DESCRIPTION:Heb je vragen over de uitvoer van de BeweegKuur GLI\, wil je meer weten over hoe anderen de BeweegKuur GLI uitvoeren\, ervaringen delen en in contact komen met andere uitvoerende professionals? Dan is dit je kans! We organiseren vier intervisie-uurtjes\, waarin kennis delen centraal staat en waarin je ook ons als interventie-eigenaar vragen kunt stellen. \nAlleen voor reeds opgeleide BeweegKuur GLI professionals\nDeelname is gratis. Graag hier vooraf aanmelden.
URL:https://huisvoorbeweging.nl/event/intervisie-vragenuurtje-voor-professionals-beweegkuur-online/
ATTACH;FMTTYPE=image/jpeg:/wp-content/uploads/2024/11/logo-kalender-beweegkuur-v2.jpg
END:VEVENT
BEGIN:VEVENT
DTSTART;TZID=Europe/Amsterdam:20241204T100000
DTEND;TZID=Europe/Amsterdam:20241204T130000
DTSTAMP:20260423T135145
CREATED:20241119T205411Z
LAST-MODIFIED:20241127T152558Z
UID:45028-1733306400-1733317200@huisvoorbeweging.nl
SUMMARY:Online Startbijeenkomst BeweegKuur GLI
DESCRIPTION:Huis voor Beweging verzorgt de startbijeenkomst BeweegKuurGLI online. Zonder aan de kwaliteit in te boeten is de training omgezet naar een interactieve startbijeenkomst\, die iedereen thuis achter de computer kan volgen. Naar grote tevredenheid van de deelnemende teams. Zij kunnen\, zodra de situatie dat toelaat\, starten met de BeweegKuurGLI in hun werkgebied. Dus wil je de BeweegKuurGLI straks ook aanbieden\, dan is het handig om in deze periode het team te scholen. Dan ben je er straks klaar voor om mensen te coachen en begeleiden in hun strijd tegen overgewicht \nVanaf januari 2019 is de BeweegKuurGLI (Gecombineerde Leefstijl Interventie) opgenomen in het basispakket van alle Nederlanders. Om de kwaliteit van de BeweegKuurGLI te waarborgen worden de uitvoerende professionals (leefstijlcoach\, fysiotherapeut en diëtist/oefentherapeut) geschoold. Deze startbijeenkomst is verplicht voor het implementeren van de BeweegKuurGLI. \nVoor aanmelden: meld je voor 1 persoon aan\, na aanmelding ontvang je alle documenten relevant voor de aanmelding van je team (open inschrijving\, maximaal 4 BeweegKuur teams). \nKlik hier voor meer informatie over de scholing.
URL:https://huisvoorbeweging.nl/event/online-startbijeenkomst-beweegkuur-gli-open-inschrijving/
ATTACH;FMTTYPE=image/jpeg:/wp-content/uploads/2024/11/logo-kalender-beweegkuur-v2.jpg
END:VEVENT
END:VCALENDAR